BEGIN:VCALENDAR
VERSION:2.0
PRODID:-//SECUMAR//NONSGML v1.0//EN
CALSCALE:GREGORIAN
X-WR-CALNAME: SECUMAR
X-ORIGINAL-URL:https://www.secumar.com
X-WR-CALDESC:SECUMAR Events 
BEGIN:VEVENT
DTSTART;VALUE=DATE:20260508
DTEND;VALUE=DATE:20260509
DTSTAMP:20260423T135105
CREATED:20260423T085158Z
LAST-MODIFIED:20260423T135105
UID:60490-20260508-20260509@www.secumar.com
SUMMARY:„Echoes of Folk“ bei ars secumaris
DESCRIPTION:ars secumaris Konzert "Echoes of Folk“ vom Tovesco Trio
URL:https://www.secumar.com/events/echoes-of-folk-bei-ars-secumaris/
LOCATION:Bredhornweg 39\, 25488\, Holm\, Deutschland
END:VEVENT
END:VCALENDAR