BEGIN:VCALENDAR
VERSION:2.0
PRODID:-//SECUMAR//NONSGML v1.0//EN
CALSCALE:GREGORIAN
X-WR-CALNAME: SECUMAR
X-ORIGINAL-URL:https://www.secumar.com
X-WR-CALDESC:SECUMAR Events 
BEGIN:VEVENT
DTSTART;VALUE=DATE:20230915
DTEND;VALUE=DATE:20230916
DTSTAMP:20260423T134529
CREATED:20230914T162832Z
LAST-MODIFIED:20260423T134529
UID:52261-20230915-20230916@www.secumar.com
SUMMARY:Gene Paul Kleinefeld ist zurück bei „ars secumaris“
DESCRIPTION:Gene Paul Kleinefeld bei „ars secumaris“ - Vernissage „Ich denke in Farben!“
URL:https://www.secumar.com/events/gene-paul-kleinefeld-ist-zurueck-bei-ars-secumaris/
LOCATION:Bredhornweg 39\, 25488\, Holm\, 
END:VEVENT
END:VCALENDAR