BEGIN:VCALENDAR
VERSION:2.0
PRODID:-//SECUMAR//NONSGML v1.0//EN
CALSCALE:GREGORIAN
X-WR-CALNAME: SECUMAR
X-ORIGINAL-URL:https://www.secumar.com
X-WR-CALDESC:SECUMAR Events 
BEGIN:VEVENT
DTSTART;VALUE=DATE:20220817
DTEND;VALUE=DATE:20220822
DTSTAMP:20260425T104044
CREATED:20220803T090813Z
LAST-MODIFIED:20260425T104044
UID:49311-20220817-20220822@www.secumar.com
SUMMARY:Multivan Kitesurf Masters St. Peter-Ording
DESCRIPTION:Weltgrößte Kitesurfmesse und -Testveranstaltung
URL:https://www.secumar.com/events/multivan-kitesurf-masters-st-peter-ording/
LOCATION:Ordinger Strand \, 25826\, St. Peter-Ording\, Deutschland
END:VEVENT
END:VCALENDAR